BEGIN:VCALENDAR
VERSION:2.0
PRODID:-//CDCO - ECPv6.15.14//NONSGML v1.0//EN
CALSCALE:GREGORIAN
METHOD:PUBLISH
X-WR-CALNAME:CDCO
X-ORIGINAL-URL:https://aaalbanyny.org
X-WR-CALDESC:Events for CDCO
REFRESH-INTERVAL;VALUE=DURATION:PT1H
X-Robots-Tag:noindex
X-PUBLISHED-TTL:PT1H
BEGIN:VTIMEZONE
TZID:America/New_York
BEGIN:DAYLIGHT
TZOFFSETFROM:-0500
TZOFFSETTO:-0400
TZNAME:EDT
DTSTART:20250309T070000
END:DAYLIGHT
BEGIN:STANDARD
TZOFFSETFROM:-0400
TZOFFSETTO:-0500
TZNAME:EST
DTSTART:20251102T060000
END:STANDARD
BEGIN:DAYLIGHT
TZOFFSETFROM:-0500
TZOFFSETTO:-0400
TZNAME:EDT
DTSTART:20260308T070000
END:DAYLIGHT
BEGIN:STANDARD
TZOFFSETFROM:-0400
TZOFFSETTO:-0500
TZNAME:EST
DTSTART:20261101T060000
END:STANDARD
BEGIN:DAYLIGHT
TZOFFSETFROM:-0500
TZOFFSETTO:-0400
TZNAME:EDT
DTSTART:20270314T070000
END:DAYLIGHT
BEGIN:STANDARD
TZOFFSETFROM:-0400
TZOFFSETTO:-0500
TZNAME:EST
DTSTART:20271107T060000
END:STANDARD
END:VTIMEZONE
BEGIN:VEVENT
DTSTART;TZID=America/New_York:20260509T173000
DTEND;TZID=America/New_York:20260509T213000
DTSTAMP:20260422T151648
CREATED:20260417T134809Z
LAST-MODIFIED:20260417T134809Z
UID:61195-1778347800-1778362200@aaalbanyny.org
SUMMARY:Spring Fling - Dinner Party (Dist. 17)
DESCRIPTION:
URL:https://aaalbanyny.org/event/spring-fling-dinner-party-dist-17/
LOCATION:First Reformed Church\, 52 Green St.\, Hudson\, NY\, 12534
END:VEVENT
BEGIN:VEVENT
DTSTART;TZID=America/New_York:20260509T180000
DTEND;TZID=America/New_York:20260509T210000
DTSTAMP:20260422T151648
CREATED:20260417T134434Z
LAST-MODIFIED:20260417T134434Z
UID:61191-1778349600-1778360400@aaalbanyny.org
SUMMARY:Sober Bowling & Fun Night - The Sequel
DESCRIPTION:
URL:https://aaalbanyny.org/event/sober-bowling-fun-night-the-sequel/
LOCATION:Catskill HoeBowl\, 305 W Bridge St\, Catskill\, 12414\, United States
END:VEVENT
BEGIN:VEVENT
DTSTART;TZID=America/New_York:20260512T183000
DTEND;TZID=America/New_York:20260512T193000
DTSTAMP:20260422T151648
CREATED:20221220T172155Z
LAST-MODIFIED:20260416T234946Z
UID:5630-1778610600-1778614200@aaalbanyny.org
SUMMARY:Capital District Central Office Monthly Meeting
DESCRIPTION:If you would like to participate and join the meeting please click  the Zoom link below. \nThe Zoom Link for the meeting is below: \nJoin the meeting every 2nd Tuesday at 6:30 PM\n  \nhttps://us02web.zoom.us/j/5184630906 \nMeeting ID: 518 463 0906 \nOne tap mobile\n+16465588656\,\,5184630906# \nDial in only: (646) 558-8656 US \n 
URL:https://aaalbanyny.org/event/capital-district-central-office-monthly-meeting-2/
LOCATION:NY
END:VEVENT
BEGIN:VEVENT
DTSTART;TZID=America/New_York:20260512T190000
DTEND;TZID=America/New_York:20260512T200000
DTSTAMP:20260422T151648
CREATED:20221213T183306Z
LAST-MODIFIED:20260416T234427Z
UID:5596-1778612400-1778616000@aaalbanyny.org
SUMMARY:Grapevine Story Hour - Virtual
DESCRIPTION:
URL:https://aaalbanyny.org/event/grapevine-story-hour-virtual/
LOCATION:NY
END:VEVENT
BEGIN:VEVENT
DTSTART;TZID=America/New_York:20260512T193000
DTEND;TZID=America/New_York:20260512T203000
DTSTAMP:20260422T151648
CREATED:20221214T000809Z
LAST-MODIFIED:20260416T211834Z
UID:5612-1778614200-1778617800@aaalbanyny.org
SUMMARY:District 3 - Monthly Meeting
DESCRIPTION:District 3 GSR meeting is held on the 2nd Tuesday of each month – 7:30 pm \n  \nLocation:  \n  \nGallagher’s Banquet Hall\n513 Main St. \nCairo\, NY 12413 \nSee map below:
URL:https://aaalbanyny.org/event/district-3-monthly-meeting-2/
LOCATION:Gallagher’s Banquet Hall\, 513 Main St\, Cairo\, NY\, 12413
END:VEVENT
BEGIN:VEVENT
DTSTART;TZID=America/New_York:20260513T190000
DTEND;TZID=America/New_York:20260513T200000
DTSTAMP:20260422T151648
CREATED:20240110T002821Z
LAST-MODIFIED:20260416T235039Z
UID:32951-1778698800-1778702400@aaalbanyny.org
SUMMARY:District 13 Monthly Meeting
DESCRIPTION:District 13 Business Meetings are held at 7:00 pm on the 2nd Wednesday of each month at:  \nSt. James Episcopal Church\n172 Ottawa St.\, Lake George\, NY 12845 \nContact: district13records@aahmbny.org
URL:https://aaalbanyny.org/event/district-13-monthly-meeting/
LOCATION:St. James Episcopal Church\, 172 Ottawa St\, Lake George\, NY\, 12845\, United States
END:VEVENT
BEGIN:VEVENT
DTSTART;TZID=America/New_York:20260514T190000
DTEND;TZID=America/New_York:20260514T200000
DTSTAMP:20260422T151648
CREATED:20221212T163448Z
LAST-MODIFIED:20260417T000031Z
UID:5575-1778785200-1778788800@aaalbanyny.org
SUMMARY:District 2 Monthly Meeting
DESCRIPTION:Second Thursday of each month – 7:00 PM \n  \nSt. John’s Church\n146 1st St\, Troy\, NY 12180 \nGoogle Directions below:
URL:https://aaalbanyny.org/event/district-2-monthly-meeting-2/
LOCATION:St. John’s Episcopal Church\, 146 1st St.\, Troy\, NY\, 12180\, United States
END:VEVENT
BEGIN:VEVENT
DTSTART;TZID=America/New_York:20260517T170000
DTEND;TZID=America/New_York:20260517T180000
DTSTAMP:20260422T151648
CREATED:20260209T161440Z
LAST-MODIFIED:20260416T234853Z
UID:61024-1779037200-1779040800@aaalbanyny.org
SUMMARY:CRAYPAA - Business Meeting - Hybrid
DESCRIPTION:
URL:https://aaalbanyny.org/event/craypaa-business-meeting-hybrid/
LOCATION:CDRC – Capital District Recovery Center\, 45 Colvin Avenue\, Albany\, NY\, 12206
END:VEVENT
BEGIN:VEVENT
DTSTART;TZID=America/New_York:20260520T180000
DTEND;TZID=America/New_York:20260520T190000
DTSTAMP:20260422T151648
CREATED:20221208T181808Z
LAST-MODIFIED:20260417T000241Z
UID:5538-1779300000-1779303600@aaalbanyny.org
SUMMARY:District 18 Monthly Meeting
DESCRIPTION:District 18 meets on the 3rd Wednesday of each month.\n\nThe In-person location is: \nLove Luthern Chruch\nPheasant Ln\nEast Greenbush\, NY 12061 \nDirections on map below: \n 
URL:https://aaalbanyny.org/event/district-18-monthly-meeting-hybrid/
LOCATION:Love Luthern Chruch\, Pheasant Ln\, East Greenbush\, NY\, 12061\, United States
END:VEVENT
BEGIN:VEVENT
DTSTART;TZID=America/New_York:20260610T180000
DTEND;TZID=America/New_York:20260610T190000
DTSTAMP:20260422T151649
CREATED:20260417T133721Z
LAST-MODIFIED:20260417T133721Z
UID:61184-1781114400-1781118000@aaalbanyny.org
SUMMARY:How a Bookers Meeting Works
DESCRIPTION:
URL:https://aaalbanyny.org/event/how-a-bookers-meeting-works/
LOCATION:Christ The King Epispocal Church\, 3021 NY-213\, Stone Ridge\, NY\, 12484\, United States
END:VEVENT
BEGIN:VEVENT
DTSTART;TZID=America/New_York:20260620T150000
DTEND;TZID=America/New_York:20260620T193000
DTSTAMP:20260422T151649
CREATED:20260415T182911Z
LAST-MODIFIED:20260415T182948Z
UID:61165-1781967600-1781983800@aaalbanyny.org
SUMMARY:Founder's Day Pig Roast w/Veggie Option - Dist. 5
DESCRIPTION:
URL:https://aaalbanyny.org/event/founders-day-pig-roast-w-veggie-option-district-5/
LOCATION:Saratoga Springs United Methodist Church\, 175 5th Savenue\, Saratoga Springs\, NY\, 12866\, United States
END:VEVENT
BEGIN:VEVENT
DTSTART;TZID=America/New_York:20260725T123000
DTEND;TZID=America/New_York:20260725T170000
DTSTAMP:20260422T151649
CREATED:20260417T135208Z
LAST-MODIFIED:20260417T135208Z
UID:61198-1784982600-1784998800@aaalbanyny.org
SUMMARY:Unity Day 2026 (Dist. 14)
DESCRIPTION:
URL:https://aaalbanyny.org/event/unity-day-2026-dist-14/
LOCATION:Beukendaal Temple\, 20 Schonowee Ave\, Scotia\, 12302\, United States
END:VEVENT
BEGIN:VEVENT
DTSTART;TZID=America/New_York:20260909T180000
DTEND;TZID=America/New_York:20260909T190000
DTSTAMP:20260422T151649
CREATED:20260417T133827Z
LAST-MODIFIED:20260417T133827Z
UID:61187-1788976800-1788980400@aaalbanyny.org
SUMMARY:How a Bookers Meeting Works
DESCRIPTION:
URL:https://aaalbanyny.org/event/how-a-bookers-meeting-works-2/
LOCATION:Christ The King Epispocal Church\, 3021 NY-213\, Stone Ridge\, NY\, 12484\, United States
END:VEVENT
BEGIN:VEVENT
DTSTART;TZID=America/New_York:20261209T180000
DTEND;TZID=America/New_York:20261209T190000
DTSTAMP:20260422T151649
CREATED:20260417T133926Z
LAST-MODIFIED:20260417T133926Z
UID:61189-1796839200-1796842800@aaalbanyny.org
SUMMARY:How a Bookers Meeting Works
DESCRIPTION:
URL:https://aaalbanyny.org/event/how-a-bookers-meeting-works-3/
LOCATION:Christ The King Epispocal Church\, 3021 NY-213\, Stone Ridge\, NY\, 12484\, United States
END:VEVENT
END:VCALENDAR